BEGIN:VCALENDAR
VERSION:2.0
PRODID:-//Town of Wolf River, Winnebago County, WI - ECPv6.15.17.1//NONSGML v1.0//EN
CALSCALE:GREGORIAN
METHOD:PUBLISH
X-WR-CALNAME:Town of Wolf River, Winnebago County, WI
X-ORIGINAL-URL:https://townofwolfriver.com
X-WR-CALDESC:Events for Town of Wolf River, Winnebago County, WI
REFRESH-INTERVAL;VALUE=DURATION:PT1H
X-Robots-Tag:noindex
X-PUBLISHED-TTL:PT1H
BEGIN:VTIMEZONE
TZID:America/Chicago
BEGIN:DAYLIGHT
TZOFFSETFROM:-0600
TZOFFSETTO:-0500
TZNAME:CDT
DTSTART:20180311T080000
END:DAYLIGHT
BEGIN:STANDARD
TZOFFSETFROM:-0500
TZOFFSETTO:-0600
TZNAME:CST
DTSTART:20181104T070000
END:STANDARD
BEGIN:DAYLIGHT
TZOFFSETFROM:-0600
TZOFFSETTO:-0500
TZNAME:CDT
DTSTART:20190310T080000
END:DAYLIGHT
BEGIN:STANDARD
TZOFFSETFROM:-0500
TZOFFSETTO:-0600
TZNAME:CST
DTSTART:20191103T070000
END:STANDARD
BEGIN:DAYLIGHT
TZOFFSETFROM:-0600
TZOFFSETTO:-0500
TZNAME:CDT
DTSTART:20200308T080000
END:DAYLIGHT
BEGIN:STANDARD
TZOFFSETFROM:-0500
TZOFFSETTO:-0600
TZNAME:CST
DTSTART:20201101T070000
END:STANDARD
BEGIN:DAYLIGHT
TZOFFSETFROM:-0600
TZOFFSETTO:-0500
TZNAME:CDT
DTSTART:20210314T080000
END:DAYLIGHT
BEGIN:STANDARD
TZOFFSETFROM:-0500
TZOFFSETTO:-0600
TZNAME:CST
DTSTART:20211107T070000
END:STANDARD
BEGIN:DAYLIGHT
TZOFFSETFROM:-0600
TZOFFSETTO:-0500
TZNAME:CDT
DTSTART:20220313T080000
END:DAYLIGHT
BEGIN:STANDARD
TZOFFSETFROM:-0500
TZOFFSETTO:-0600
TZNAME:CST
DTSTART:20221106T070000
END:STANDARD
BEGIN:DAYLIGHT
TZOFFSETFROM:-0600
TZOFFSETTO:-0500
TZNAME:CDT
DTSTART:20230312T080000
END:DAYLIGHT
BEGIN:STANDARD
TZOFFSETFROM:-0500
TZOFFSETTO:-0600
TZNAME:CST
DTSTART:20231105T070000
END:STANDARD
BEGIN:DAYLIGHT
TZOFFSETFROM:-0600
TZOFFSETTO:-0500
TZNAME:CDT
DTSTART:20240310T080000
END:DAYLIGHT
BEGIN:STANDARD
TZOFFSETFROM:-0500
TZOFFSETTO:-0600
TZNAME:CST
DTSTART:20241103T070000
END:STANDARD
BEGIN:DAYLIGHT
TZOFFSETFROM:-0600
TZOFFSETTO:-0500
TZNAME:CDT
DTSTART:20250309T080000
END:DAYLIGHT
BEGIN:STANDARD
TZOFFSETFROM:-0500
TZOFFSETTO:-0600
TZNAME:CST
DTSTART:20251102T070000
END:STANDARD
BEGIN:DAYLIGHT
TZOFFSETFROM:-0600
TZOFFSETTO:-0500
TZNAME:CDT
DTSTART:20260308T080000
END:DAYLIGHT
BEGIN:STANDARD
TZOFFSETFROM:-0500
TZOFFSETTO:-0600
TZNAME:CST
DTSTART:20261101T070000
END:STANDARD
BEGIN:DAYLIGHT
TZOFFSETFROM:-0600
TZOFFSETTO:-0500
TZNAME:CDT
DTSTART:20270314T080000
END:DAYLIGHT
BEGIN:STANDARD
TZOFFSETFROM:-0500
TZOFFSETTO:-0600
TZNAME:CST
DTSTART:20271107T070000
END:STANDARD
END:VTIMEZONE
BEGIN:VEVENT
DTSTART;TZID=America/Chicago:20190211T110000
DTEND;TZID=America/Chicago:20190211T110000
DTSTAMP:20260422T060948
CREATED:20190207T180712Z
LAST-MODIFIED:20190207T180712Z
UID:10000112-1549882800-1549882800@townofwolfriver.com
SUMMARY:Public Test
DESCRIPTION:PUBLIC NOTICE \nElectronic Ballot Tabulation \n  \nNOTICE IS HEREBY GIVEN\, of a public test of the electronic ballot tabulation system will be held on February 11\, 2019 at 11:00 a.m. to ascertain that the equipment will correctly count the February 19\, 2019 Election votes cast for all offices and on all measures. All tests open to the public.  \n  \nTown of Wolf River  \n8800 County Road II\, Fremont  \nSusan Gilbert\, Clerk
URL:https://townofwolfriver.com/event/public-test/
CATEGORIES:Election
END:VEVENT
BEGIN:VEVENT
DTSTART;TZID=America/Chicago:20220405T070000
DTEND;TZID=America/Chicago:20220405T200000
DTSTAMP:20260422T060948
CREATED:20220401T184412Z
LAST-MODIFIED:20220401T184412Z
UID:10000202-1649142000-1649188800@townofwolfriver.com
SUMMARY:Spring Election
DESCRIPTION:
URL:https://townofwolfriver.com/event/spring-election-4/
CATEGORIES:Election
END:VEVENT
BEGIN:VEVENT
DTSTART;TZID=America/Chicago:20220809T070000
DTEND;TZID=America/Chicago:20220809T200000
DTSTAMP:20260422T060948
CREATED:20220707T172412Z
LAST-MODIFIED:20220707T172412Z
UID:10000213-1660028400-1660075200@townofwolfriver.com
SUMMARY:Primary Election
DESCRIPTION:
URL:https://townofwolfriver.com/event/primary-election-2/
CATEGORIES:Election
END:VEVENT
BEGIN:VEVENT
DTSTART;TZID=America/Chicago:20230221T070000
DTEND;TZID=America/Chicago:20230221T200000
DTSTAMP:20260422T060948
CREATED:20230206T173624Z
LAST-MODIFIED:20230206T173624Z
UID:10000161-1676962800-1677009600@townofwolfriver.com
SUMMARY:Primary Election
DESCRIPTION:
URL:https://townofwolfriver.com/event/primary-election-3/
CATEGORIES:Election
END:VEVENT
BEGIN:VEVENT
DTSTART;TZID=America/Chicago:20250401T070000
DTEND;TZID=America/Chicago:20250401T200000
DTSTAMP:20260422T060948
CREATED:20250326T180312Z
LAST-MODIFIED:20250326T180312Z
UID:10000228-1743490800-1743537600@townofwolfriver.com
SUMMARY:Spring Election
DESCRIPTION:
URL:https://townofwolfriver.com/event/spring-election-5/
CATEGORIES:Election
END:VEVENT
BEGIN:VEVENT
DTSTART;TZID=America/Chicago:20260407T070000
DTEND;TZID=America/Chicago:20260407T200000
DTSTAMP:20260422T060948
CREATED:20260324T013801Z
LAST-MODIFIED:20260324T013801Z
UID:10000231-1775545200-1775592000@townofwolfriver.com
SUMMARY:Spring Election
DESCRIPTION:
URL:https://townofwolfriver.com/event/spring-election-6/
CATEGORIES:Election
END:VEVENT
END:VCALENDAR